View In:
  ArcGIS JavaScript
  ArcGIS Online Map Viewer
  ArcGIS Earth
  ArcMap
View Footprint In:
  ArcGIS Online Map Viewer
Service Description:  Il s'agit d'une donnée raster géoréférencée constituée à partir de traitements issus de l'acquisition de photographies aériennes (2021, IGN) représentant la couverture végétale et sa hauteur associée (en m) sur le territoire de Paris, de la Petite Couronne et d'une partie du reste de la Grande Couronne, soit environ 3700 km².
La valeur d’un pixel raster représente la hauteur du couvert végétal en mètres,différenciée selon trois critères de situation (domaine privé, domaine public, hors MGP) :
- Végétation privée : la hauteur de la végétation correspond à la valeur du pixel
- Végétation publique : la hauteur de la végétation correspond à la valeur du pixel moins 100
- Végétation hors MGP : la hauteur de la végétation correspond à la valeur du pixel moins 1000
Des rendus différents sont ainsi possibles selon la situation.
Name:  OPENDATA/HAUTEUR_VEGETATION_2021
Description:  Il s'agit d'une donnée raster géoréférencée constituée à partir de traitements issus de l'acquisition de photographies aériennes (2021, IGN) représentant la couverture végétale et sa hauteur associée (en m) sur le territoire de Paris, de la Petite Couronne et d'une partie du reste de la Grande Couronne, soit environ 3700 km².
La valeur d’un pixel raster représente la hauteur du couvert végétal en mètres,différenciée selon trois critères de situation (domaine privé, domaine public, hors MGP) :
- Végétation privée : la hauteur de la végétation correspond à la valeur du pixel
- Végétation publique : la hauteur de la végétation correspond à la valeur du pixel moins 100
- Végétation hors MGP : la hauteur de la végétation correspond à la valeur du pixel moins 1000
Des rendus différents sont ainsi possibles selon la situation.
Single Fused Map Cache:  false
Extent: 
XMin: 636171.4769497473
YMin: 6837971.126442032
XMax: 672756.4769497473
YMax: 6881070.126442032
Spatial Reference: 102110
 (2154)
Initial Extent: 
XMin: 636171.4769497473
YMin: 6837971.126442032
XMax: 672756.4769497473
YMax: 6881070.126442032
Spatial Reference: 102110
 (2154)
Full Extent: 
XMin: 636171.4769497473
YMin: 6837971.126442032
XMax: 672756.4769497473
YMax: 6881070.126442032
Spatial Reference: 102110
 (2154)
Pixel Size X:  1.0
Pixel Size Y:  1.0
Band Count: 1
Pixel Type: F32
RasterFunction Infos:  {"rasterFunctionInfos": [
 {
  "name": "hauteur_veg_public_prive_vert",
  "description": "A raster function template.",
  "help": ""
 },
 {
  "name": "hauteur_veg_public_prive_gris",
  "description": "A raster function template.",
  "help": ""
 },
 {
  "name": "hauteur_veg_public_prive",
  "description": "A raster function template.",
  "help": ""
 },
 {
  "name": "None",
  "description": "A No-Op Function.",
  "help": ""
 }
]}
Mensuration Capabilities: None
Has Histograms:  true
Has Colormap:  false
Has Multi Dimensions :  false
Rendering Rule: 
Min Scale:  0
Max Scale:  0
Copyright Text:  Apur, IGN
Service Data Type:  esriImageServiceDataTypeGeneric
Min Values:  0
Max Values:  3100
Mean Values:  591.2181047005815
Standard Deviation Values:  472.76555874682845
Object ID Field:  OBJECTID
Fields: 
- 
OBJECTID
(
type: esriFieldTypeOID, alias: OBJECTID
)
 
- 
Shape
(
type: esriFieldTypeGeometry, alias: Shape
)
 
- 
Name
(
type: esriFieldTypeString, alias: Name, length: 200
)
 
- 
MinPS
(
type: esriFieldTypeDouble, alias: MinPS
)
 
- 
MaxPS
(
type: esriFieldTypeDouble, alias: MaxPS
)
 
- 
LowPS
(
type: esriFieldTypeDouble, alias: LowPS
)
 
- 
HighPS
(
type: esriFieldTypeDouble, alias: HighPS
)
 
- 
Category
(
type: esriFieldTypeInteger, alias: Category
, Coded Values: 
[0: Unknown]
, [1: Primary]
, [2: Overview]
, ...6 more...
)
 
- 
Tag
(
type: esriFieldTypeString, alias: Tag, length: 100
)
 
- 
GroupName
(
type: esriFieldTypeString, alias: GroupName, length: 100
)
 
- 
ProductName
(
type: esriFieldTypeString, alias: ProductName, length: 100
)
 
- 
CenterX
(
type: esriFieldTypeDouble, alias: CenterX
)
 
- 
CenterY
(
type: esriFieldTypeDouble, alias: CenterY
)
 
- 
ZOrder
(
type: esriFieldTypeInteger, alias: ZOrder
)
 
- 
Shape_Length
(
type: esriFieldTypeDouble, alias: Shape_Length
)
 
- 
Shape_Area
(
type: esriFieldTypeDouble, alias: Shape_Area
)
 
Default Mosaic Method:  Northwest
Allowed Mosaic Methods:  NorthWest,Center,LockRaster,ByAttribute,Nadir,Viewpoint,Seamline,None
SortField:  
SortValue:  null
Mosaic Operator:  First
Default Compression Quality:  75
Default Resampling Method:  Bilinear
Max Record Count:  1000
Max Image Height:  4100
Max Image Width:  15000
Max Download Image Count:  20
Max Mosaic Image Count:  20
Allow Raster Function:  true
Allow Copy:  null
Allow Analysis:  null
Allow Compute TiePoints:  false
Supports Statistics:  true
Supports Advanced Queries:  true
Use StandardizedQueries:  true
Raster Type Infos: 
Name: Raster Dataset
Description: Supports all ArcGIS Raster Datasets
Help: 
Has Raster Attribute Table:  false
Edit Fields Info:  null
Ownership Based AccessControl For Rasters:  null
Child Resources:
  
Info
  Histograms
  Key Properties
  Legend
  Raster Function Infos
Supported Operations:
  
Export Image
  Query
  Identify
  Compute Histograms
  Compute Statistics Histograms
  Get Samples
  Compute Class Statistics
  Query Boundary
  Compute Pixel Location
  Compute Angles
  Validate
  Project