{
 "currentVersion": 10.91,
 "serviceDescription": "Il s'agit d'une donnée raster géoréférencée constituée à partir de traitements issus de l'acquisition de photographies aériennes (2021, IGN) représentant la couverture végétale et sa hauteur associée (en m) sur le territoire de Paris, de la Petite Couronne et d'une partie du reste de la Grande Couronne, soit environ 3700 km².\n\nLa valeur d\u2019un pixel raster représente la hauteur du couvert végétal en mètres,différenciée selon trois critères de situation (domaine privé, domaine public, hors MGP) :\n- Végétation privée : la hauteur de la végétation correspond à la valeur du pixel\n- Végétation publique : la hauteur de la végétation correspond à la valeur du pixel moins 100\n- Végétation hors MGP : la hauteur de la végétation correspond à la valeur du pixel moins 1000\nDes rendus différents sont ainsi possibles selon la situation.",
 "name": "OPENDATA/HAUTEUR_VEGETATION_2021",
 "description": "Il s'agit d'une donnée raster géoréférencée constituée à partir de traitements issus de l'acquisition de photographies aériennes (2021, IGN) représentant la couverture végétale et sa hauteur associée (en m) sur le territoire de Paris, de la Petite Couronne et d'une partie du reste de la Grande Couronne, soit environ 3700 km².\n\nLa valeur d\u2019un pixel raster représente la hauteur du couvert végétal en mètres,différenciée selon trois critères de situation (domaine privé, domaine public, hors MGP) :\n- Végétation privée : la hauteur de la végétation correspond à la valeur du pixel\n- Végétation publique : la hauteur de la végétation correspond à la valeur du pixel moins 100\n- Végétation hors MGP : la hauteur de la végétation correspond à la valeur du pixel moins 1000\nDes rendus différents sont ainsi possibles selon la situation.",
 "extent": {
  "xmin": 636171.4769497473,
  "ymin": 6837971.126442032,
  "xmax": 672756.4769497473,
  "ymax": 6881070.126442032,
  "spatialReference": {
   "wkid": 102110,
   "latestWkid": 2154
  }
 },
 "initialExtent": {
  "xmin": 636171.4769497473,
  "ymin": 6837971.126442032,
  "xmax": 672756.4769497473,
  "ymax": 6881070.126442032,
  "spatialReference": {
   "wkid": 102110,
   "latestWkid": 2154
  }
 },
 "fullExtent": {
  "xmin": 636171.4769497473,
  "ymin": 6837971.126442032,
  "xmax": 672756.4769497473,
  "ymax": 6881070.126442032,
  "spatialReference": {
   "wkid": 102110,
   "latestWkid": 2154
  }
 },
 "pixelSizeX": 1,
 "pixelSizeY": 1,
 "bandCount": 1,
 "pixelType": "F32",
 "minPixelSize": 0,
 "maxPixelSize": 0,
 "copyrightText": "Apur, IGN",
 "serviceDataType": "esriImageServiceDataTypeGeneric",
 "minValues": [
  0
 ],
 "maxValues": [
  3100
 ],
 "meanValues": [
  591.2181047005815
 ],
 "stdvValues": [
  472.76555874682845
 ],
 "objectIdField": "OBJECTID",
 "fields": [
  {
   "name": "OBJECTID",
   "type": "esriFieldTypeOID",
   "alias": "OBJECTID",
   "domain": null
  },
  {
   "name": "Shape",
   "type": "esriFieldTypeGeometry",
   "alias": "Shape",
   "domain": null
  },
  {
   "name": "Name",
   "type": "esriFieldTypeString",
   "alias": "Name",
   "domain": null,
   "length": 200
  },
  {
   "name": "MinPS",
   "type": "esriFieldTypeDouble",
   "alias": "MinPS",
   "domain": null
  },
  {
   "name": "MaxPS",
   "type": "esriFieldTypeDouble",
   "alias": "MaxPS",
   "domain": null
  },
  {
   "name": "LowPS",
   "type": "esriFieldTypeDouble",
   "alias": "LowPS",
   "domain": null
  },
  {
   "name": "HighPS",
   "type": "esriFieldTypeDouble",
   "alias": "HighPS",
   "domain": null
  },
  {
   "name": "Category",
   "type": "esriFieldTypeInteger",
   "alias": "Category",
   "domain": {
    "type": "codedValue",
    "name": "MosaicCatalogItemCategoryDomain",
    "description": "Catalog item categories.",
    "codedValues": [
     {
      "name": "Unknown",
      "code": 0
     },
     {
      "name": "Primary",
      "code": 1
     },
     {
      "name": "Overview",
      "code": 2
     },
     {
      "name": "Unprocessed Overview",
      "code": 3
     },
     {
      "name": "Partial Overview",
      "code": 4
     },
     {
      "name": "Inactive",
      "code": 5
     },
     {
      "name": "Uploaded",
      "code": 253
     },
     {
      "name": "Incomplete",
      "code": 254
     },
     {
      "name": "Custom",
      "code": 255
     }
    ],
    "mergePolicy": "esriMPTDefaultValue",
    "splitPolicy": "esriSPTDefaultValue"
   }
  },
  {
   "name": "Tag",
   "type": "esriFieldTypeString",
   "alias": "Tag",
   "domain": null,
   "length": 100
  },
  {
   "name": "GroupName",
   "type": "esriFieldTypeString",
   "alias": "GroupName",
   "domain": null,
   "length": 100
  },
  {
   "name": "ProductName",
   "type": "esriFieldTypeString",
   "alias": "ProductName",
   "domain": null,
   "length": 100
  },
  {
   "name": "CenterX",
   "type": "esriFieldTypeDouble",
   "alias": "CenterX",
   "domain": null
  },
  {
   "name": "CenterY",
   "type": "esriFieldTypeDouble",
   "alias": "CenterY",
   "domain": null
  },
  {
   "name": "ZOrder",
   "type": "esriFieldTypeInteger",
   "alias": "ZOrder",
   "domain": null
  },
  {
   "name": "Shape_Length",
   "type": "esriFieldTypeDouble",
   "alias": "Shape_Length",
   "domain": null
  },
  {
   "name": "Shape_Area",
   "type": "esriFieldTypeDouble",
   "alias": "Shape_Area",
   "domain": null
  }
 ],
 "capabilities": "Image,Metadata,Catalog",
 "defaultMosaicMethod": "Northwest",
 "allowedMosaicMethods": "NorthWest,Center,LockRaster,ByAttribute,Nadir,Viewpoint,Seamline,None",
 "sortField": "",
 "sortValue": null,
 "sortAscending": true,
 "mosaicOperator": "First",
 "maxDownloadSizeLimit": 2048,
 "defaultCompressionQuality": 75,
 "defaultResamplingMethod": "Bilinear",
 "maxImageHeight": 4100,
 "maxImageWidth": 15000,
 "maxRecordCount": 1000,
 "maxDownloadImageCount": 20,
 "maxMosaicImageCount": 20,
 "allowRasterFunction": true,
 "rasterFunctionInfos": [
  {
   "name": "hauteur_veg_public_prive_vert",
   "description": "A raster function template.",
   "help": ""
  },
  {
   "name": "hauteur_veg_public_prive_gris",
   "description": "A raster function template.",
   "help": ""
  },
  {
   "name": "hauteur_veg_public_prive",
   "description": "A raster function template.",
   "help": ""
  },
  {
   "name": "None",
   "description": "A No-Op Function.",
   "help": ""
  }
 ],
 "rasterTypeInfos": [
  {
   "name": "Raster Dataset",
   "description": "Supports all ArcGIS Raster Datasets",
   "help": ""
  }
 ],
 "mensurationCapabilities": "None",
 "hasHistograms": true,
 "hasColormap": false,
 "hasRasterAttributeTable": false,
 "minScale": 0,
 "maxScale": 0,
 "exportTilesAllowed": false,
 "hasMultidimensions": false,
 "supportsStatistics": true,
 "supportsAdvancedQueries": true,
 "editFieldsInfo": null,
 "ownershipBasedAccessControlForRasters": null,
 "allowComputeTiePoints": false,
 "useStandardizedQueries": true,
 "advancedQueryCapabilities": {
  "useStandardizedQueries": true,
  "supportsStatistics": true,
  "supportsOrderBy": true,
  "supportsDistinct": true,
  "supportsPagination": true
 },
 "spatialReference": {
  "wkid": 102110,
  "latestWkid": 2154
 }
}
