View In:
  ArcGIS JavaScript
  ArcGIS Online Map Viewer
  ArcGIS Earth
  ArcMap
View Footprint In:
  ArcGIS Online Map Viewer
Service Description:  Image géoréférencée constituée à partir de traitements issus de l'acquisition de photographies aériennes (2015, Aerodata) représentant la couverture végétale et sa hauteur associée (en m) sur le territoire de Paris, de la Petite Couronne et d'une partie du reste de la Grande Couronne soit environ 4000 km².
La valeur d’un pixel raster représente la hauteur du bâtiment en mètre.
L’identification des zones avec une présence de végétation a été obtenue par traitements d’images proche infrarouge reposant sur la méthode de classification par le maximum de vraisemblance. Les hauteurs végétation ont été construites à partir d’une image de la différence MNE (Modèle Numérique d'Elévation) moins MNT (Modèle Numérique de Terrain) sur le résultat de la classification.
Pour plus de précision, vous pouvez consulter la fiche descriptive en suivant ce lien :
http://www.apur.org/open_data/HAUTEUR_VEGETATION_OD.pdf
Name:  OPENDATA/HAUTEUR_VEGETATION_2015
Description:  Image géoréférencée constituée à partir de traitements issus de l'acquisition de photographies aériennes (2015, Aerodata) représentant la couverture végétale et sa hauteur associée (en m) sur le territoire de Paris, de la Petite Couronne et d'une partie du reste de la Grande Couronne soit environ 4000 km².
La valeur d’un pixel raster représente la hauteur du bâtiment en mètre.
L’identification des zones avec une présence de végétation a été obtenue par traitements d’images proche infrarouge reposant sur la méthode de classification par le maximum de vraisemblance. Les hauteurs végétation ont été construites à partir d’une image de la différence MNE (Modèle Numérique d'Elévation) moins MNT (Modèle Numérique de Terrain) sur le résultat de la classification.
Pour plus de précision, vous pouvez consulter la fiche descriptive en suivant ce lien :
http://www.apur.org/open_data/HAUTEUR_VEGETATION_OD.pdf
Single Fused Map Cache:  false
Extent: 
XMin: 621000
YMin: 6823000
XMax: 683000
YMax: 6886000
Spatial Reference: 102110
 (2154)
Initial Extent: 
XMin: 621000
YMin: 6823000
XMax: 683000
YMax: 6886000
Spatial Reference: 102110
 (2154)
Full Extent: 
XMin: 621000
YMin: 6823000
XMax: 683000
YMax: 6886000
Spatial Reference: 102110
 (2154)
Pixel Size X:  1.0
Pixel Size Y:  1.0
Band Count: 1
Pixel Type: F32
RasterFunction Infos:  {"rasterFunctionInfos": [
 {
  "name": "hauteur_veg_3cl",
  "description": "A raster function template.",
  "help": ""
 },
 {
  "name": "hauteur_veg_4cl",
  "description": "A raster function template.",
  "help": ""
 },
 {
  "name": "None",
  "description": "A No-Op Function.",
  "help": ""
 }
]}
Mensuration Capabilities: Basic
Has Histograms:  false
Has Colormap:  false
Has Multi Dimensions :  false
Rendering Rule: 
Min Scale:  0
Max Scale:  0
Copyright Text:  Apur, Aerodata
Service Data Type:  esriImageServiceDataTypeGeneric
Min Values:  N/A
Max Values:  N/A
Mean Values:  N/A
Standard Deviation Values:  N/A
Object ID Field:  OBJECTID
Fields: 
- 
OBJECTID
(
type: esriFieldTypeOID, alias: OBJECTID
)
 
- 
Shape
(
type: esriFieldTypeGeometry, alias: Shape
)
 
- 
Name
(
type: esriFieldTypeString, alias: Name, length: 200
)
 
- 
MinPS
(
type: esriFieldTypeDouble, alias: MinPS
)
 
- 
MaxPS
(
type: esriFieldTypeDouble, alias: MaxPS
)
 
- 
LowPS
(
type: esriFieldTypeDouble, alias: LowPS
)
 
- 
HighPS
(
type: esriFieldTypeDouble, alias: HighPS
)
 
- 
Category
(
type: esriFieldTypeInteger, alias: Category
, Coded Values: 
[0: Unknown]
, [1: Primary]
, [2: Overview]
, ...6 more...
)
 
- 
Tag
(
type: esriFieldTypeString, alias: Tag, length: 100
)
 
- 
GroupName
(
type: esriFieldTypeString, alias: GroupName, length: 100
)
 
- 
ProductName
(
type: esriFieldTypeString, alias: ProductName, length: 100
)
 
- 
CenterX
(
type: esriFieldTypeDouble, alias: CenterX
)
 
- 
CenterY
(
type: esriFieldTypeDouble, alias: CenterY
)
 
- 
ZOrder
(
type: esriFieldTypeInteger, alias: ZOrder
)
 
- 
Shape_Length
(
type: esriFieldTypeDouble, alias: Shape_Length
)
 
- 
Shape_Area
(
type: esriFieldTypeDouble, alias: Shape_Area
)
 
Default Mosaic Method:  Northwest
Allowed Mosaic Methods:  NorthWest,Center,LockRaster,ByAttribute,Nadir,Viewpoint,Seamline,None
SortField:  
SortValue:  null
Mosaic Operator:  First
Default Compression Quality:  75
Default Resampling Method:  Bilinear
Max Record Count:  1000
Max Image Height:  4100
Max Image Width:  15000
Max Download Image Count:  20
Max Mosaic Image Count:  20
Allow Raster Function:  true
Allow Copy:  null
Allow Analysis:  null
Allow Compute TiePoints:  false
Supports Statistics:  true
Supports Advanced Queries:  true
Use StandardizedQueries:  true
Raster Type Infos: 
Name: WMS
Description: Allows a WMS (Web Map Service) layer to be consumed as a raster dataset.
Help: 
Name: Raster Dataset
Description: Supports all ArcGIS Raster Datasets
Help: 
Has Raster Attribute Table:  false
Edit Fields Info:  null
Ownership Based AccessControl For Rasters:  null
Child Resources:
  
Info
  Key Properties
  Legend
  Raster Function Infos
Supported Operations:
  
Export Image
  Query
  Identify
  Download Rasters
  Measure
  Compute Histograms
  Compute Statistics Histograms
  Get Samples
  Compute Class Statistics
  Query Boundary
  Compute Pixel Location
  Compute Angles
  Validate
  Project