{
 "currentVersion": 10.91,
 "serviceDescription": "Image géoréférencée constituée à partir de traitements issus de l'acquisition de photographies aériennes (2015, Aerodata) représentant la couverture végétale et sa hauteur associée (en m) sur le territoire de Paris, de la Petite Couronne et d'une partie du reste de la Grande Couronne soit environ 4000 km².\n\nLa valeur d\u2019un pixel raster représente la hauteur du bâtiment en mètre.\n\nL\u2019identification des zones avec une présence de végétation a été obtenue par traitements d\u2019images proche infrarouge reposant sur la méthode de classification par le maximum de vraisemblance. Les hauteurs végétation ont été construites à partir d\u2019une image de la différence MNE (Modèle Numérique d'Elévation) moins MNT (Modèle Numérique de Terrain) sur le résultat de la classification.\n\nPour plus de précision, vous pouvez consulter la fiche descriptive en suivant ce lien :\nhttp://www.apur.org/open_data/HAUTEUR_VEGETATION_OD.pdf",
 "name": "OPENDATA/HAUTEUR_VEGETATION_2015",
 "description": "Image géoréférencée constituée à partir de traitements issus de l'acquisition de photographies aériennes (2015, Aerodata) représentant la couverture végétale et sa hauteur associée (en m) sur le territoire de Paris, de la Petite Couronne et d'une partie du reste de la Grande Couronne soit environ 4000 km².\n\nLa valeur d\u2019un pixel raster représente la hauteur du bâtiment en mètre.\n\nL\u2019identification des zones avec une présence de végétation a été obtenue par traitements d\u2019images proche infrarouge reposant sur la méthode de classification par le maximum de vraisemblance. Les hauteurs végétation ont été construites à partir d\u2019une image de la différence MNE (Modèle Numérique d'Elévation) moins MNT (Modèle Numérique de Terrain) sur le résultat de la classification.\n\nPour plus de précision, vous pouvez consulter la fiche descriptive en suivant ce lien :\nhttp://www.apur.org/open_data/HAUTEUR_VEGETATION_OD.pdf",
 "extent": {
  "xmin": 621000,
  "ymin": 6823000,
  "xmax": 683000,
  "ymax": 6886000,
  "spatialReference": {
   "wkid": 102110,
   "latestWkid": 2154
  }
 },
 "initialExtent": {
  "xmin": 621000,
  "ymin": 6823000,
  "xmax": 683000,
  "ymax": 6886000,
  "spatialReference": {
   "wkid": 102110,
   "latestWkid": 2154
  }
 },
 "fullExtent": {
  "xmin": 621000,
  "ymin": 6823000,
  "xmax": 683000,
  "ymax": 6886000,
  "spatialReference": {
   "wkid": 102110,
   "latestWkid": 2154
  }
 },
 "pixelSizeX": 1,
 "pixelSizeY": 1,
 "bandCount": 1,
 "pixelType": "F32",
 "minPixelSize": 0,
 "maxPixelSize": 0,
 "copyrightText": "Apur, Aerodata",
 "serviceDataType": "esriImageServiceDataTypeGeneric",
 "minValues": [],
 "maxValues": [],
 "meanValues": [],
 "stdvValues": [],
 "objectIdField": "OBJECTID",
 "fields": [
  {
   "name": "OBJECTID",
   "type": "esriFieldTypeOID",
   "alias": "OBJECTID",
   "domain": null
  },
  {
   "name": "Shape",
   "type": "esriFieldTypeGeometry",
   "alias": "Shape",
   "domain": null
  },
  {
   "name": "Name",
   "type": "esriFieldTypeString",
   "alias": "Name",
   "domain": null,
   "length": 200
  },
  {
   "name": "MinPS",
   "type": "esriFieldTypeDouble",
   "alias": "MinPS",
   "domain": null
  },
  {
   "name": "MaxPS",
   "type": "esriFieldTypeDouble",
   "alias": "MaxPS",
   "domain": null
  },
  {
   "name": "LowPS",
   "type": "esriFieldTypeDouble",
   "alias": "LowPS",
   "domain": null
  },
  {
   "name": "HighPS",
   "type": "esriFieldTypeDouble",
   "alias": "HighPS",
   "domain": null
  },
  {
   "name": "Category",
   "type": "esriFieldTypeInteger",
   "alias": "Category",
   "domain": {
    "type": "codedValue",
    "name": "MosaicCatalogItemCategoryDomain",
    "description": "Catalog item categories.",
    "codedValues": [
     {
      "name": "Unknown",
      "code": 0
     },
     {
      "name": "Primary",
      "code": 1
     },
     {
      "name": "Overview",
      "code": 2
     },
     {
      "name": "Unprocessed Overview",
      "code": 3
     },
     {
      "name": "Partial Overview",
      "code": 4
     },
     {
      "name": "Inactive",
      "code": 5
     },
     {
      "name": "Uploaded",
      "code": 253
     },
     {
      "name": "Incomplete",
      "code": 254
     },
     {
      "name": "Custom",
      "code": 255
     }
    ],
    "mergePolicy": "esriMPTDefaultValue",
    "splitPolicy": "esriSPTDefaultValue"
   }
  },
  {
   "name": "Tag",
   "type": "esriFieldTypeString",
   "alias": "Tag",
   "domain": null,
   "length": 100
  },
  {
   "name": "GroupName",
   "type": "esriFieldTypeString",
   "alias": "GroupName",
   "domain": null,
   "length": 100
  },
  {
   "name": "ProductName",
   "type": "esriFieldTypeString",
   "alias": "ProductName",
   "domain": null,
   "length": 100
  },
  {
   "name": "CenterX",
   "type": "esriFieldTypeDouble",
   "alias": "CenterX",
   "domain": null
  },
  {
   "name": "CenterY",
   "type": "esriFieldTypeDouble",
   "alias": "CenterY",
   "domain": null
  },
  {
   "name": "ZOrder",
   "type": "esriFieldTypeInteger",
   "alias": "ZOrder",
   "domain": null
  },
  {
   "name": "Shape_Length",
   "type": "esriFieldTypeDouble",
   "alias": "Shape_Length",
   "domain": null
  },
  {
   "name": "Shape_Area",
   "type": "esriFieldTypeDouble",
   "alias": "Shape_Area",
   "domain": null
  }
 ],
 "capabilities": "Catalog,Download,Image,Mensuration,Metadata",
 "defaultMosaicMethod": "Northwest",
 "allowedMosaicMethods": "NorthWest,Center,LockRaster,ByAttribute,Nadir,Viewpoint,Seamline,None",
 "sortField": "",
 "sortValue": null,
 "sortAscending": true,
 "mosaicOperator": "First",
 "maxDownloadSizeLimit": 2048,
 "defaultCompressionQuality": 75,
 "defaultResamplingMethod": "Bilinear",
 "maxImageHeight": 4100,
 "maxImageWidth": 15000,
 "maxRecordCount": 1000,
 "maxDownloadImageCount": 20,
 "maxMosaicImageCount": 20,
 "allowRasterFunction": true,
 "rasterFunctionInfos": [
  {
   "name": "hauteur_veg_3cl",
   "description": "A raster function template.",
   "help": ""
  },
  {
   "name": "hauteur_veg_4cl",
   "description": "A raster function template.",
   "help": ""
  },
  {
   "name": "None",
   "description": "A No-Op Function.",
   "help": ""
  }
 ],
 "rasterTypeInfos": [
  {
   "name": "WMS",
   "description": "Allows a WMS (Web Map Service) layer to be consumed as a raster dataset.",
   "help": ""
  },
  {
   "name": "Raster Dataset",
   "description": "Supports all ArcGIS Raster Datasets",
   "help": ""
  }
 ],
 "mensurationCapabilities": "Basic",
 "hasHistograms": false,
 "hasColormap": false,
 "hasRasterAttributeTable": false,
 "minScale": 0,
 "maxScale": 0,
 "exportTilesAllowed": false,
 "hasMultidimensions": false,
 "supportsStatistics": true,
 "supportsAdvancedQueries": true,
 "editFieldsInfo": null,
 "ownershipBasedAccessControlForRasters": null,
 "allowComputeTiePoints": false,
 "useStandardizedQueries": true,
 "advancedQueryCapabilities": {
  "useStandardizedQueries": true,
  "supportsStatistics": true,
  "supportsOrderBy": true,
  "supportsDistinct": true,
  "supportsPagination": true
 },
 "spatialReference": {
  "wkid": 102110,
  "latestWkid": 2154
 }
}
