View In:
ArcGIS JavaScript
ArcGIS Online Map Viewer
ArcGIS Earth
ArcMap
View Footprint In:
ArcGIS Online Map Viewer
Service Description: Carte d'Etat-Major de Paris et des environs 1901
Name: PLANS_HISTORIQUES/Etat_Major_1901_Paris_et_PC
Description: Carte d'Etat-Major de Paris et des environs 1901
Single Fused Map Cache: false
Extent:
XMin: 619117.0028296489
YMin: 6853112.257208811
XMax: 683574.2065688774
YMax: 6893587.745001243
Spatial Reference: 102110
(2154)
Initial Extent:
XMin: 619117.0028296489
YMin: 6853112.257208811
XMax: 683574.2065688774
YMax: 6893587.745001243
Spatial Reference: 102110
(2154)
Full Extent:
XMin: 619117.0028296489
YMin: 6853112.257208811
XMax: 683574.2065688774
YMax: 6893587.745001243
Spatial Reference: 102110
(2154)
Pixel Size X: 4.2280881429471
Pixel Size Y: 4.228088142947071
Band Count: 1
Pixel Type: U8
RasterFunction Infos: {"rasterFunctionInfos": [{
"name": "None",
"description": "",
"help": ""
}]}
Mensuration Capabilities: Basic
Has Histograms: true
Has Colormap: false
Has Multi Dimensions : false
Rendering Rule:
Min Scale: 0
Max Scale: 0
Copyright Text: Alpage, Apur
Service Data Type: esriImageServiceDataTypeGeneric
Min Values: 0
Max Values: 255
Mean Values: 171.13142529394
Standard Deviation Values: 79.797325775534
Object ID Field:
Fields:
None
Default Mosaic Method: Center
Allowed Mosaic Methods:
SortField:
SortValue: null
Mosaic Operator: First
Default Compression Quality: 75
Default Resampling Method: Bilinear
Max Record Count: null
Max Image Height: 4100
Max Image Width: 15000
Max Download Image Count: null
Max Mosaic Image Count: null
Allow Raster Function: true
Allow Copy: null
Allow Analysis: null
Allow Compute TiePoints: false
Supports Statistics: false
Supports Advanced Queries: false
Use StandardizedQueries: true
Raster Type Infos:
Name: Raster Dataset
Description: Supports all ArcGIS Raster Datasets
Help:
Has Raster Attribute Table: false
Edit Fields Info: null
Ownership Based AccessControl For Rasters: null
Child Resources:
Info
Histograms
Key Properties
Legend
Raster Function Infos
Supported Operations:
Export Image
Identify
Measure
Compute Histograms
Compute Statistics Histograms
Get Samples
Compute Class Statistics
Query Boundary
Compute Pixel Location
Compute Angles
Validate
Project