View In:
ArcGIS JavaScript
ArcGIS Online Map Viewer
ArcGIS Earth
ArcMap
View Footprint In:
ArcGIS Online Map Viewer
Service Description: CARTE MILITAIRE PARIS ET ENVIRONS 1832
Name: PLANS_HISTORIQUES/Carte_militaire_1832_Paris_et_environs
Description: CARTE MILITAIRE PARIS ET ENVIRONS 1832
Single Fused Map Cache: false
Extent:
XMin: 642486.166229613
YMin: 6855579.236384451
XMax: 659509.0911762537
YMax: 6868596.767226
Spatial Reference: 102110
(2154)
Initial Extent:
XMin: 642486.166229613
YMin: 6855579.236384451
XMax: 659509.0911762537
YMax: 6868596.767226
Spatial Reference: 102110
(2154)
Full Extent:
XMin: 642486.166229613
YMin: 6855579.236384451
XMax: 659509.0911762537
YMax: 6868596.767226
Spatial Reference: 102110
(2154)
Pixel Size X: 1.2821363972765485
Pixel Size Y: 1.2821363972765614
Band Count: 1
Pixel Type: U8
RasterFunction Infos: {"rasterFunctionInfos": [{
"name": "None",
"description": "",
"help": ""
}]}
Mensuration Capabilities: Basic
Has Histograms: true
Has Colormap: false
Has Multi Dimensions : false
Rendering Rule:
Min Scale: 0
Max Scale: 0
Copyright Text:
Service Data Type: esriImageServiceDataTypeProcessed
Min Values: 0
Max Values: 255
Mean Values: 240.29801458782
Standard Deviation Values: 35.140197914004
Object ID Field:
Fields:
None
Default Mosaic Method: Center
Allowed Mosaic Methods:
SortField:
SortValue: null
Mosaic Operator: First
Default Compression Quality: 75
Default Resampling Method: Bilinear
Max Record Count: null
Max Image Height: 4100
Max Image Width: 15000
Max Download Image Count: null
Max Mosaic Image Count: null
Allow Raster Function: true
Allow Copy: null
Allow Analysis: null
Allow Compute TiePoints: false
Supports Statistics: false
Supports Advanced Queries: false
Use StandardizedQueries: true
Raster Type Infos:
Name: Raster Dataset
Description: Supports all ArcGIS Raster Datasets
Help:
Has Raster Attribute Table: false
Edit Fields Info: null
Ownership Based AccessControl For Rasters: null
Child Resources:
Info
Histograms
Key Properties
Legend
Raster Function Infos
Supported Operations:
Export Image
Identify
Measure
Compute Histograms
Compute Statistics Histograms
Get Samples
Compute Class Statistics
Query Boundary
Compute Pixel Location
Compute Angles
Validate
Project