View In:
  ArcGIS JavaScript
  ArcGIS Online Map Viewer
  ArcGIS Earth
  ArcMap
View Footprint In:
  ArcGIS Online Map Viewer
Service Description:  Cette image raster correspond à une thermographie d’été qui représente des données thermiques (en degrés Celcius) par pixel relevées sur le sol et les toits des bâtiments.
L'image a été prise par un capteur satellite LANDSAT (NASA USGS) le 20 août 2010 et couvre Paris et la petite couronne à la résolution de 5 mètres.
Pour plus de précision, vous pouvez consulter la fiche descriptive en suivant ce lien :
http://www.apur.org/open_data/THERMOGRAPHIE_ETE_2010_OD.pdf
Name:  OPENDATA/THERMOGRAPHIE_ETE_2010
Description:  Cette image raster correspond à une thermographie d’été qui représente des données thermiques (en degrés Celcius) par pixel relevées sur le sol et les toits des bâtiments.
L'image a été prise par un capteur satellite LANDSAT (NASA USGS) le 20 août 2010 et couvre Paris et la petite couronne à la résolution de 5 mètres.
Pour plus de précision, vous pouvez consulter la fiche descriptive en suivant ce lien :
http://www.apur.org/open_data/THERMOGRAPHIE_ETE_2010_OD.pdf
Single Fused Map Cache:  false
Extent: 
XMin: 545566.1221999973
YMin: 6760663.8385999985
XMax: 762241.1221999973
YMax: 6963448.8385999985
Spatial Reference: 102110
 (2154)
Initial Extent: 
XMin: 545566.1221999973
YMin: 6760663.8385999985
XMax: 762241.1221999973
YMax: 6963448.8385999985
Spatial Reference: 102110
 (2154)
Full Extent: 
XMin: 545566.1221999973
YMin: 6760663.8385999985
XMax: 762241.1221999973
YMax: 6963448.8385999985
Spatial Reference: 102110
 (2154)
Pixel Size X:  5.0
Pixel Size Y:  5.0
Band Count: 1
Pixel Type: F32
RasterFunction Infos:  {"rasterFunctionInfos": [
 {
  "name": "None",
  "description": "A No-Op Function.",
  "help": ""
 },
 {
  "name": "None",
  "description": "A No-Op Function.",
  "help": ""
 }
]}
Mensuration Capabilities: Basic
Has Histograms:  false
Has Colormap:  false
Has Multi Dimensions :  false
Rendering Rule: 
Min Scale:  0
Max Scale:  0
Copyright Text:  NASA (USGS), Apur
Service Data Type:  esriImageServiceDataTypeGeneric
Min Values:  N/A
Max Values:  N/A
Mean Values:  N/A
Standard Deviation Values:  N/A
Object ID Field:  OBJECTID
Fields: 
- 
OBJECTID
(
type: esriFieldTypeOID, alias: OBJECTID
)
 
- 
Shape
(
type: esriFieldTypeGeometry, alias: Shape
)
 
- 
Name
(
type: esriFieldTypeString, alias: Name, length: 200
)
 
- 
MinPS
(
type: esriFieldTypeDouble, alias: MinPS
)
 
- 
MaxPS
(
type: esriFieldTypeDouble, alias: MaxPS
)
 
- 
LowPS
(
type: esriFieldTypeDouble, alias: LowPS
)
 
- 
HighPS
(
type: esriFieldTypeDouble, alias: HighPS
)
 
- 
Category
(
type: esriFieldTypeInteger, alias: Category
, Coded Values: 
[0: Unknown]
, [1: Primary]
, [2: Overview]
, ...6 more...
)
 
- 
Tag
(
type: esriFieldTypeString, alias: Tag, length: 100
)
 
- 
GroupName
(
type: esriFieldTypeString, alias: GroupName, length: 100
)
 
- 
ProductName
(
type: esriFieldTypeString, alias: ProductName, length: 100
)
 
- 
CenterX
(
type: esriFieldTypeDouble, alias: CenterX
)
 
- 
CenterY
(
type: esriFieldTypeDouble, alias: CenterY
)
 
- 
ZOrder
(
type: esriFieldTypeInteger, alias: ZOrder
)
 
- 
Shape_Length
(
type: esriFieldTypeDouble, alias: Shape_Length
)
 
- 
Shape_Area
(
type: esriFieldTypeDouble, alias: Shape_Area
)
 
Default Mosaic Method:  Northwest
Allowed Mosaic Methods:  NorthWest,Center,LockRaster,ByAttribute,Nadir,Viewpoint,Seamline,None
SortField:  
SortValue:  null
Mosaic Operator:  First
Default Compression Quality:  75
Default Resampling Method:  Bilinear
Max Record Count:  1000
Max Image Height:  4100
Max Image Width:  15000
Max Download Image Count:  20
Max Mosaic Image Count:  20
Allow Raster Function:  true
Allow Copy:  null
Allow Analysis:  null
Allow Compute TiePoints:  false
Supports Statistics:  true
Supports Advanced Queries:  true
Use StandardizedQueries:  true
Raster Type Infos: 
Name: Raster Dataset
Description: Supports all ArcGIS Raster Datasets
Help: 
Has Raster Attribute Table:  false
Edit Fields Info:  null
Ownership Based AccessControl For Rasters:  null
Child Resources:
  
Info
  Key Properties
  Legend
  Raster Function Infos
Supported Operations:
  
Export Image
  Query
  Identify
  Measure
  Compute Histograms
  Compute Statistics Histograms
  Get Samples
  Compute Class Statistics
  Query Boundary
  Compute Pixel Location
  Compute Angles
  Validate
  Project