View In:
ArcGIS JavaScript
ArcGIS Online Map Viewer
ArcGIS Earth
ArcMap
View Footprint In:
ArcGIS Online Map Viewer
Service Description: Image géoréférencée représentant la répartition des bâtiments avec les hauteurs associées. La valeur unitaire (pour chaque pixel) représente la hauteur du bâti en mètre.
Mode de constitution des données : la répartition des bâtiments a été obtenue par traitements d’images reposant sur la méthode de classification par le maximum de vraisemblance. Les hauteurs des bâtiments ont été construites à partir d’une image de la différence MNE moins MNT sur le résultat de la classification.
Name: OPENDATA/HAUTEUR_BATI_2012
Description: Image géoréférencée représentant la répartition des bâtiments avec les hauteurs associées. La valeur unitaire (pour chaque pixel) représente la hauteur du bâti en mètre.
Mode de constitution des données : la répartition des bâtiments a été obtenue par traitements d’images reposant sur la méthode de classification par le maximum de vraisemblance. Les hauteurs des bâtiments ont été construites à partir d’une image de la différence MNE moins MNT sur le résultat de la classification.
Single Fused Map Cache: false
Extent:
XMin: 620292.988889742
YMin: 6818330.48598802
XMax: 682554.988889742
YMax: 6889841.98598802
Spatial Reference: 102110
(2154)
Initial Extent:
XMin: 620292.988889742
YMin: 6818330.48598802
XMax: 682554.988889742
YMax: 6889841.98598802
Spatial Reference: 102110
(2154)
Full Extent:
XMin: 620292.988889742
YMin: 6818330.48598802
XMax: 682554.988889742
YMax: 6889841.98598802
Spatial Reference: 102110
(2154)
Pixel Size X: 0.5
Pixel Size Y: 0.5
Band Count: 1
Pixel Type: F32
RasterFunction Infos: {"rasterFunctionInfos": [
{
"name": "None",
"description": "A No-Op Function.",
"help": ""
},
{
"name": "Raster_hauteurbati_2012_7cl",
"description": "A raster function template.",
"help": ""
},
{
"name": "hauteur_bati_5cl",
"description": "A raster function template.",
"help": ""
},
{
"name": "Raster_hauteurbati_2012_7cl",
"description": "A raster function template.",
"help": ""
},
{
"name": "None",
"description": "A No-Op Function.",
"help": ""
}
]}
Mensuration Capabilities: Basic
Has Histograms: true
Has Colormap: false
Has Multi Dimensions : false
Rendering Rule:
Min Scale: 1000000
Max Scale: 1000
Copyright Text: Apur, Interatlas
Service Data Type: esriImageServiceDataTypeGeneric
Min Values: 1.1808420197212399E-7
Max Values: 285.5799865722656
Mean Values: 8.353751538213452
Standard Deviation Values: 6.950652660686178
Object ID Field: OBJECTID
Fields:
-
OBJECTID
(
type: esriFieldTypeOID, alias: OBJECTID
)
-
Shape
(
type: esriFieldTypeGeometry, alias: Shape
)
-
Name
(
type: esriFieldTypeString, alias: Name, length: 200
)
-
MinPS
(
type: esriFieldTypeDouble, alias: MinPS
)
-
MaxPS
(
type: esriFieldTypeDouble, alias: MaxPS
)
-
LowPS
(
type: esriFieldTypeDouble, alias: LowPS
)
-
HighPS
(
type: esriFieldTypeDouble, alias: HighPS
)
-
Category
(
type: esriFieldTypeInteger, alias: Category
, Coded Values:
[0: Unknown]
, [1: Primary]
, [2: Overview]
, ...6 more...
)
-
Tag
(
type: esriFieldTypeString, alias: Tag, length: 100
)
-
GroupName
(
type: esriFieldTypeString, alias: GroupName, length: 100
)
-
ProductName
(
type: esriFieldTypeString, alias: ProductName, length: 100
)
-
CenterX
(
type: esriFieldTypeDouble, alias: CenterX
)
-
CenterY
(
type: esriFieldTypeDouble, alias: CenterY
)
-
ZOrder
(
type: esriFieldTypeInteger, alias: ZOrder
)
-
Shape_Length
(
type: esriFieldTypeDouble, alias: Shape_Length
)
-
Shape_Area
(
type: esriFieldTypeDouble, alias: Shape_Area
)
Default Mosaic Method: Northwest
Allowed Mosaic Methods: NorthWest,Center,LockRaster,ByAttribute,Nadir,Viewpoint,Seamline,None
SortField:
SortValue: null
Mosaic Operator: First
Default Compression Quality: 75
Default Resampling Method: Bilinear
Max Record Count: 1000
Max Image Height: 4100
Max Image Width: 15000
Max Download Image Count: 20
Max Mosaic Image Count: 20
Allow Raster Function: true
Allow Copy: true
Allow Analysis: true
Allow Compute TiePoints: false
Supports Statistics: true
Supports Advanced Queries: true
Use StandardizedQueries: true
Raster Type Infos:
Name: Raster Dataset
Description: Supports all ArcGIS Raster Datasets
Help:
Has Raster Attribute Table: false
Edit Fields Info: null
Ownership Based AccessControl For Rasters: null
Child Resources:
Info
Histograms
Statistics
Key Properties
Legend
Raster Function Infos
Supported Operations:
Export Image
Query
Identify
Download Rasters
Measure
Compute Histograms
Compute Statistics Histograms
Get Samples
Compute Class Statistics
Query Boundary
Compute Pixel Location
Compute Angles
Validate
Project