View In:
  ArcGIS JavaScript
  ArcGIS Online Map Viewer
  ArcGIS Earth
  ArcMap
View Footprint In:
  ArcGIS Online Map Viewer
Service Description:  Orthophoto 2018 en Lambert93 - Pixel 0,10
Name:  FOND_DE_PLAN/ORTHO_PARIS_2018
Description:  Orthophoto 2018 en Lambert93 - Pixel 0,10
Single Fused Map Cache:  false
Extent: 
XMin: 642100
YMin: 6856499.9829
XMax: 662100
YMax: 6868059.6829
Spatial Reference: 102110
 (2154)
Initial Extent: 
XMin: 642100
YMin: 6856499.9829
XMax: 662100
YMax: 6868059.6829
Spatial Reference: 102110
 (2154)
Full Extent: 
XMin: 642100
YMin: 6856499.9829
XMax: 662100
YMax: 6868059.6829
Spatial Reference: 102110
 (2154)
Pixel Size X:  0.1
Pixel Size Y:  0.10000000000000162
Band Count: 3
Pixel Type: U8
RasterFunction Infos:  {"rasterFunctionInfos": [{
 "name": "None",
 "description": "",
 "help": ""
}]}
Mensuration Capabilities: Basic
Has Histograms:  true
Has Colormap:  false
Has Multi Dimensions :  false
Rendering Rule: 
Min Scale:  3000000
Max Scale:  1000
Copyright Text:  Geomni, Apur
Service Data Type:  esriImageServiceDataTypeRGB
Min Values:  0, 0, 0
Max Values:  255, 255, 255
Mean Values:  104.05611369308, 110.08274124486, 106.72353534674
Standard Deviation Values:  55.110589148984, 47.183816983133, 42.378433413988
Object ID Field:  
Fields: 
None
Default Mosaic Method:  Center
Allowed Mosaic Methods:  
SortField:  
SortValue:  null
Mosaic Operator:  First
Default Compression Quality:  75
Default Resampling Method:  Bilinear
Max Record Count:  null
Max Image Height:  4100
Max Image Width:  15000
Max Download Image Count:  null
Max Mosaic Image Count:  null
Allow Raster Function:  true
Allow Copy:  null
Allow Analysis:  null
Allow Compute TiePoints:  false
Supports Statistics:  false
Supports Advanced Queries:  false
Use StandardizedQueries:  true
Raster Type Infos: 
Name: Raster Dataset
Description: Supports all ArcGIS Raster Datasets
Help: 
Has Raster Attribute Table:  false
Edit Fields Info:  null
Ownership Based AccessControl For Rasters:  null
Child Resources:
  
Info
  Histograms
  Key Properties
  Legend
  Raster Function Infos
Supported Operations:
  
Export Image
  Identify
  Measure
  Compute Histograms
  Compute Statistics Histograms
  Get Samples
  Compute Class Statistics
  Query Boundary
  Compute Pixel Location
  Compute Angles
  Validate
  Project