View In:
  ArcGIS JavaScript
  ArcGIS Online Map Viewer
  ArcGIS Earth
  ArcMap
View Footprint In:
  ArcGIS Online Map Viewer
Service Description:  Orthophoto 2015 en Lambert93 - Pixel 0,16
Name:  FOND_DE_PLAN/ORTHO_2015
Description:  Orthophoto 2015 en Lambert93 - Pixel 0,16
Single Fused Map Cache:  false
Extent: 
XMin: 621000.0000006569
YMin: 6822921.600100793
XMax: 683010.400000657
YMax: 6879971.360100793
Spatial Reference: 102110
 (2154)
Initial Extent: 
XMin: 621000.0000006569
YMin: 6822921.600100793
XMax: 683010.400000657
YMax: 6879971.360100793
Spatial Reference: 102110
 (2154)
Full Extent: 
XMin: 621000.0000006569
YMin: 6822921.600100793
XMax: 683010.400000657
YMax: 6879971.360100793
Spatial Reference: 102110
 (2154)
Pixel Size X:  0.16000000000000006
Pixel Size Y:  0.15999999999999936
Band Count: 4
Pixel Type: U8
RasterFunction Infos:  {"rasterFunctionInfos": [{
 "name": "None",
 "description": "A No-Op Function.",
 "help": ""
}]}
Mensuration Capabilities: 
Has Histograms:  true
Has Colormap:  false
Has Multi Dimensions :  false
Rendering Rule: 
Min Scale:  0
Max Scale:  0
Copyright Text:  Apur, Aerodata
Service Data Type:  esriImageServiceDataTypeProcessed
Min Values:  1, 2, 4, 1
Max Values:  255, 255, 255, 1
Mean Values:  105.74849398195188, 112.4702742157662, 99.39247231938828, 1
Standard Deviation Values:  51.12808212102354, 42.18504476924771, 39.200360919005504, 0
Object ID Field:  OBJECTID
Fields: 
- 
OBJECTID
(
type: esriFieldTypeOID, alias: OBJECTID
)
 
- 
Shape
(
type: esriFieldTypeGeometry, alias: Shape
)
 
- 
Name
(
type: esriFieldTypeString, alias: Name, length: 200
)
 
- 
MinPS
(
type: esriFieldTypeDouble, alias: MinPS
)
 
- 
MaxPS
(
type: esriFieldTypeDouble, alias: MaxPS
)
 
- 
LowPS
(
type: esriFieldTypeDouble, alias: LowPS
)
 
- 
HighPS
(
type: esriFieldTypeDouble, alias: HighPS
)
 
- 
Category
(
type: esriFieldTypeInteger, alias: Category
, Coded Values: 
[0: Unknown]
, [1: Primary]
, [2: Overview]
, ...5 more...
)
 
- 
Tag
(
type: esriFieldTypeString, alias: Tag, length: 100
)
 
- 
GroupName
(
type: esriFieldTypeString, alias: GroupName, length: 100
)
 
- 
ProductName
(
type: esriFieldTypeString, alias: ProductName, length: 100
)
 
- 
CenterX
(
type: esriFieldTypeDouble, alias: CenterX
)
 
- 
CenterY
(
type: esriFieldTypeDouble, alias: CenterY
)
 
- 
ZOrder
(
type: esriFieldTypeInteger, alias: ZOrder
)
 
- 
Shape_Length
(
type: esriFieldTypeDouble, alias: Shape_Length
)
 
- 
Shape_Area
(
type: esriFieldTypeDouble, alias: Shape_Area
)
 
Default Mosaic Method:  Northwest
Allowed Mosaic Methods:  NorthWest,Center,LockRaster,ByAttribute,Nadir,Viewpoint,Seamline,None
SortField:  
SortValue:  null
Mosaic Operator:  First
Default Compression Quality:  75
Default Resampling Method:  Bilinear
Max Record Count:  1000
Max Image Height:  4100
Max Image Width:  15000
Max Download Image Count:  20
Max Mosaic Image Count:  100
Allow Raster Function:  true
Allow Copy:  null
Allow Analysis:  null
Allow Compute TiePoints:  false
Supports Statistics:  true
Supports Advanced Queries:  true
Use StandardizedQueries:  true
Raster Type Infos: 
Name: Raster Dataset
Description: Supports all ArcGIS Raster Datasets
Help: 
Has Raster Attribute Table:  false
Edit Fields Info:  null
Ownership Based AccessControl For Rasters:  null
Child Resources:
  
Info
  Histograms
  Key Properties
  Legend
  Raster Function Infos
Supported Operations:
  
Export Image
  Identify
  Measure
  Compute Histograms
  Compute Statistics Histograms
  Get Samples
  Compute Class Statistics
  Query Boundary
  Compute Pixel Location
  Compute Angles
  Validate
  Project