{
 "currentVersion": 10.91,
 "serviceDescription": "FOND_DE_PLAN/ORTHO_2021",
 "name": "FOND_DE_PLAN/ORTHO_2021",
 "description": "",
 "extent": {
  "xmin": 615000,
  "ymin": 6795000,
  "xmax": 675000,
  "ymax": 6880000,
  "spatialReference": {
   "wkid": 102110,
   "latestWkid": 2154
  }
 },
 "initialExtent": {
  "xmin": 615000,
  "ymin": 6795000,
  "xmax": 675000,
  "ymax": 6880000,
  "spatialReference": {
   "wkid": 102110,
   "latestWkid": 2154
  }
 },
 "fullExtent": {
  "xmin": 615000,
  "ymin": 6795000,
  "xmax": 675000,
  "ymax": 6880000,
  "spatialReference": {
   "wkid": 102110,
   "latestWkid": 2154
  }
 },
 "hasMultidimensions": false,
 "pixelSizeX": 0.2,
 "pixelSizeY": 0.2,
 "datasetFormat": "AMD",
 "uncompressedSize": 382500000000,
 "blockWidth": 2048,
 "blockHeight": 256,
 "compressionType": "None",
 "bandNames": [
  "Band_1",
  "Band_2",
  "Band_3"
 ],
 "allowCopy": true,
 "allowAnalysis": true,
 "bandCount": 3,
 "pixelType": "U8",
 "minPixelSize": 0,
 "maxPixelSize": 0,
 "copyrightText": "IGN, Apur",
 "serviceDataType": "esriImageServiceDataTypeProcessed",
 "serviceSourceType": "esriImageServiceSourceTypeMosaicDataset",
 "minValues": [
  13,
  13,
  13
 ],
 "maxValues": [
  255,
  255,
  254
 ],
 "meanValues": [
  108.03540537304461,
  109.50792001194456,
  100.5983596742425
 ],
 "stdvValues": [
  44.60707618230242,
  38.630817619502444,
  37.58687633646229
 ],
 "objectIdField": "objectid",
 "fields": [
  {
   "name": "objectid",
   "type": "esriFieldTypeOID",
   "alias": "objectid",
   "domain": null
  },
  {
   "name": "name",
   "type": "esriFieldTypeString",
   "alias": "name",
   "domain": null,
   "length": 200
  },
  {
   "name": "minps",
   "type": "esriFieldTypeDouble",
   "alias": "minps",
   "domain": null
  },
  {
   "name": "maxps",
   "type": "esriFieldTypeDouble",
   "alias": "maxps",
   "domain": null
  },
  {
   "name": "lowps",
   "type": "esriFieldTypeDouble",
   "alias": "lowps",
   "domain": null
  },
  {
   "name": "highps",
   "type": "esriFieldTypeDouble",
   "alias": "highps",
   "domain": null
  },
  {
   "name": "category",
   "type": "esriFieldTypeInteger",
   "alias": "category",
   "domain": {
    "type": "codedValue",
    "name": "MosaicCatalogItemCategoryDomain",
    "description": "Catalog item categories.",
    "codedValues": [
     {
      "name": "Unknown",
      "code": 0
     },
     {
      "name": "Primary",
      "code": 1
     },
     {
      "name": "Overview",
      "code": 2
     },
     {
      "name": "Unprocessed Overview",
      "code": 3
     },
     {
      "name": "Partial Overview",
      "code": 4
     },
     {
      "name": "Uploaded",
      "code": 253
     },
     {
      "name": "Incomplete",
      "code": 254
     },
     {
      "name": "Custom",
      "code": 255
     }
    ],
    "mergePolicy": "esriMPTDefaultValue",
    "splitPolicy": "esriSPTDefaultValue"
   }
  },
  {
   "name": "tag",
   "type": "esriFieldTypeString",
   "alias": "tag",
   "domain": null,
   "length": 100
  },
  {
   "name": "groupname",
   "type": "esriFieldTypeString",
   "alias": "groupname",
   "domain": null,
   "length": 100
  },
  {
   "name": "productname",
   "type": "esriFieldTypeString",
   "alias": "productname",
   "domain": null,
   "length": 100
  },
  {
   "name": "centerx",
   "type": "esriFieldTypeDouble",
   "alias": "centerx",
   "domain": null
  },
  {
   "name": "centery",
   "type": "esriFieldTypeDouble",
   "alias": "centery",
   "domain": null
  },
  {
   "name": "zorder",
   "type": "esriFieldTypeInteger",
   "alias": "zorder",
   "domain": null
  },
  {
   "name": "shape",
   "type": "esriFieldTypeGeometry",
   "alias": "shape",
   "domain": null
  },
  {
   "name": "st_area(shape)",
   "type": "esriFieldTypeDouble",
   "alias": "st_area(shape)",
   "domain": null
  },
  {
   "name": "st_length(shape)",
   "type": "esriFieldTypeDouble",
   "alias": "st_length(shape)",
   "domain": null
  }
 ],
 "capabilities": "Catalog,Image,Metadata",
 "defaultMosaicMethod": "Northwest",
 "allowedMosaicMethods": "NorthWest,Center,LockRaster,ByAttribute,Nadir,Viewpoint,Seamline,None",
 "sortField": "",
 "sortValue": null,
 "sortAscending": true,
 "mosaicOperator": "First",
 "maxDownloadSizeLimit": 2048,
 "defaultCompressionQuality": 75,
 "defaultResamplingMethod": "Bilinear",
 "maxImageHeight": 4100,
 "maxImageWidth": 15000,
 "maxRecordCount": 1000,
 "maxDownloadImageCount": 20,
 "maxMosaicImageCount": 20,
 "allowRasterFunction": true,
 "rasterFunctionInfos": [
  {
   "name": "None",
   "description": "A No-Op Function.",
   "help": ""
  }
 ],
 "rasterTypeInfos": [
  {
   "name": "Raster Dataset",
   "description": "Supports all ArcGIS Raster Datasets",
   "help": ""
  }
 ],
 "mensurationCapabilities": "None",
 "hasHistograms": true,
 "hasColormap": false,
 "hasRasterAttributeTable": false,
 "minScale": 0,
 "maxScale": 0,
 "exportTilesAllowed": false,
 "supportsStatistics": true,
 "supportsAdvancedQueries": true,
 "editFieldsInfo": null,
 "ownershipBasedAccessControlForRasters": null,
 "allowComputeTiePoints": false,
 "useStandardizedQueries": true,
 "advancedQueryCapabilities": {
  "useStandardizedQueries": true,
  "supportsStatistics": true,
  "supportsOrderBy": true,
  "supportsDistinct": true,
  "supportsPagination": true
 },
 "spatialReference": {
  "wkid": 102110,
  "latestWkid": 2154
 }
}
