{
 "currentVersion": 10.91,
 "serviceDescription": "Cartes pour l'application \"Diagnostic territorial du PLU\" ; thématique \"environnement - nuisances, éclairage, déchets\"",
 "mapName": "Couches",
 "description": "",
 "copyrightText": "",
 "supportsDynamicLayers": true,
 "layers": [
  {
   "id": 0,
   "name": "BRUIT_jpeg",
   "parentLayerId": -1,
   "defaultVisibility": true,
   "subLayerIds": null,
   "minScale": 0,
   "maxScale": 0,
   "type": "Raster Layer"
  },
  {
   "id": 1,
   "name": "AIR_fond_de_plan_A3_format_jpeg_1200dpi_v2_arcgis9_3",
   "parentLayerId": -1,
   "defaultVisibility": true,
   "subLayerIds": null,
   "minScale": 0,
   "maxScale": 0,
   "type": "Raster Layer"
  },
  {
   "id": 2,
   "name": "POLL_LUMINEUSE_jpeg_1200dpi",
   "parentLayerId": -1,
   "defaultVisibility": true,
   "subLayerIds": null,
   "minScale": 0,
   "maxScale": 0,
   "type": "Raster Layer"
  },
  {
   "id": 3,
   "name": "Déchets_v2_A3_format_jpeg_1200dpi_v2",
   "parentLayerId": -1,
   "defaultVisibility": true,
   "subLayerIds": null,
   "minScale": 0,
   "maxScale": 0,
   "type": "Raster Layer"
  }
 ],
 "tables": [],
 "spatialReference": {
  "wkid": 102110,
  "latestWkid": 2154
 },
 "singleFusedMapCache": true,
 "tileInfo": {
  "rows": 256,
  "cols": 256,
  "dpi": 96,
  "format": "PNG32",
  "compressionQuality": 0,
  "origin": {
   "x": -35597500,
   "y": 48953100
  },
  "spatialReference": {
   "wkid": 102110,
   "latestWkid": 2154
  },
  "lods": [
   {
    "level": 0,
    "resolution": 793.7515875031751,
    "scale": 3000000
   },
   {
    "level": 1,
    "resolution": 396.87579375158754,
    "scale": 1500000
   },
   {
    "level": 2,
    "resolution": 264.5838625010584,
    "scale": 1000000
   },
   {
    "level": 3,
    "resolution": 198.43789687579377,
    "scale": 750000
   },
   {
    "level": 4,
    "resolution": 132.2919312505292,
    "scale": 500000
   },
   {
    "level": 5,
    "resolution": 66.1459656252646,
    "scale": 250000
   },
   {
    "level": 6,
    "resolution": 39.687579375158755,
    "scale": 150000
   },
   {
    "level": 7,
    "resolution": 26.458386250105836,
    "scale": 100000
   },
   {
    "level": 8,
    "resolution": 19.843789687579378,
    "scale": 75000
   },
   {
    "level": 9,
    "resolution": 13.229193125052918,
    "scale": 50000
   },
   {
    "level": 10,
    "resolution": 6.614596562526459,
    "scale": 25000
   },
   {
    "level": 11,
    "resolution": 3.9687579375158752,
    "scale": 15000
   },
   {
    "level": 12,
    "resolution": 2.6458386250105836,
    "scale": 10000
   },
   {
    "level": 13,
    "resolution": 1.3229193125052918,
    "scale": 5000
   },
   {
    "level": 14,
    "resolution": 0.5291677250021167,
    "scale": 2000
   },
   {
    "level": 15,
    "resolution": 0.26458386250105836,
    "scale": 1000
   }
  ]
 },
 "initialExtent": {
  "xmin": 642688.7275987779,
  "ymin": 6863654.678313921,
  "xmax": 661452.2291831943,
  "ymax": 6867504.165743315,
  "spatialReference": {
   "wkid": 102110,
   "latestWkid": 2154
  }
 },
 "fullExtent": {
  "xmin": 642853.7670964176,
  "ymin": 6856317.982274977,
  "xmax": 661278.4320967946,
  "ymax": 6868185.0438483115,
  "spatialReference": {
   "wkid": 102110,
   "latestWkid": 2154
  }
 },
 "minScale": 500000,
 "maxScale": 2000,
 "units": "esriMeters",
 "supportedImageFormatTypes": "PNG32,PNG24,PNG,JPG,DIB,TIFF,EMF,PS,PDF,GIF,SVG,SVGZ,BMP",
 "documentInfo": {
  "Title": "",
  "Author": "",
  "Comments": "Cartes pour l'application \"Diagnostic territorial du PLU\" ; thématique \"approche socio-démographique\"",
  "Subject": "Cartes pour l'application \"Diagnostic territorial du PLU\" ; thématique \"approche socio-démographique\"",
  "Category": "",
  "AntialiasingMode": "None",
  "TextAntialiasingMode": "Force",
  "Keywords": "APUR,datavisualisation,PLU"
 },
 "capabilities": "Map",
 "supportedQueryFormats": "JSON, geoJSON",
 "exportTilesAllowed": false,
 "referenceScale": 0,
 "supportsDatumTransformation": true,
 "maxRecordCount": 1000,
 "maxImageHeight": 4096,
 "maxImageWidth": 4096,
 "supportedExtensions": ""
}
